BEGIN:VCALENDAR
VERSION:2.0
PRODID:-//eventon.com NONSGML v1.0//EN
CALSCALE:GREGORIAN
METHOD:PUBLISH
BEGIN:VEVENT
UID:69e6059e1c100
DTSTAMP:20260420T105318Z
DTSTART:20260611T070000Z
DTEND:20260611T130000Z
LOCATION:Delegación Pinturas Isaval en Mallorca Av. de Jaime II\,  227\,  07300 Inca\,  Islas Baleares
SUMMARY:JORNADA TÉCNICA Mallorca
DESCRIPTION:Jornada Técnica\nhttps://sate-dev.juice-studio.com/events/jorn
 ada-tecnica-mallorca-26-02/
URL:https://sate-dev.juice-studio.com/events/jornada-tecnica-mallorca-26-02/
END:VEVENT
END:VCALENDAR